BEGIN:VCALENDAR
VERSION:2.0
PRODID:-//Mierendorff-INSEL - ECPv5.16.4//NONSGML v1.0//EN
CALSCALE:GREGORIAN
METHOD:PUBLISH
X-WR-CALNAME:Mierendorff-INSEL
X-ORIGINAL-URL:https://mierendorffinsel.org
X-WR-CALDESC:Veranstaltungen für Mierendorff-INSEL
BEGIN:VTIMEZONE
TZID:Europe/Berlin
BEGIN:DAYLIGHT
TZOFFSETFROM:+0100
TZOFFSETTO:+0200
TZNAME:CEST
DTSTART:20180325T010000
END:DAYLIGHT
BEGIN:STANDARD
TZOFFSETFROM:+0200
TZOFFSETTO:+0100
TZNAME:CET
DTSTART:20181028T010000
END:STANDARD
END:VTIMEZONE
BEGIN:VEVENT
DTSTART;TZID=Europe/Berlin:20181122T190000
DTEND;TZID=Europe/Berlin:20181122T220000
DTSTAMP:20260425T040341
CREATED:20181110T103828Z
LAST-MODIFIED:20190329T110804Z
UID:1833-1542913200-1542924000@mierendorffinsel.org
SUMMARY:Gesprächsrunde "Wem gehört Charlottenburg-Wilmersdorf?"
DESCRIPTION:Im Rahmen des stadtweiten Rechercheprojekts „Wem gehört Berlin?“ von Tagesspiegel und Correctiv veranstaltet der Tagesspiegel  öffentliche Gesprächsabende in den Bezirken. „Wem gehört Charlottenburg-Wilmersdorf?“\, lautet die Frage am Donnerstag\, den 22. November. Ab 19 Uhr diskutieren im BVV-Saal des Rathauses Charlottenburg an der Otto-Suhr-Allee 100 unter anderem Baustadtrat Oliver Schruoffeneger (Grüne) sowie Vertreter der MieterWerkStadt Charlottenburg\, des Berliner Mietervereins und des Eigentümerverbands Haus & Grund.
URL:https://mierendorffinsel.org/veranstaltung/1833/
LOCATION:Rathaus Charlottenburg\, BVV-Saal\, 3. OG\, Otoo-Suhr-Allee 100\, Berlin\, 10589\, Deutschland
CATEGORIES:Informationsveranstaltung
END:VEVENT
END:VCALENDAR