BEGIN:VCALENDAR
VERSION:2.0
PRODID:-//Mierendorff-INSEL - ECPv5.16.4//NONSGML v1.0//EN
CALSCALE:GREGORIAN
METHOD:PUBLISH
X-WR-CALNAME:Mierendorff-INSEL
X-ORIGINAL-URL:https://mierendorffinsel.org
X-WR-CALDESC:Veranstaltungen für Mierendorff-INSEL
BEGIN:VTIMEZONE
TZID:Europe/Berlin
BEGIN:DAYLIGHT
TZOFFSETFROM:+0100
TZOFFSETTO:+0200
TZNAME:CEST
DTSTART:20180325T010000
END:DAYLIGHT
BEGIN:STANDARD
TZOFFSETFROM:+0200
TZOFFSETTO:+0100
TZNAME:CET
DTSTART:20181028T010000
END:STANDARD
END:VTIMEZONE
BEGIN:VEVENT
DTSTART;TZID=Europe/Berlin:20181116T183000
DTEND;TZID=Europe/Berlin:20181116T203000
DTSTAMP:20260425T041327
CREATED:20181108T101404Z
LAST-MODIFIED:20190329T110930Z
UID:1773-1542393000-1542400200@mierendorffinsel.org
SUMMARY:Berliner Märchentage: "Die Apfelsinenfee" im Haus am Mierendorffplatz (HaM)
DESCRIPTION:Dagmar Eichhorn erzählt im Rahmen der Berliner Märchentage auch dieses Jahr wieder im Haus am Mierendorffplatz (HaM). Am 16.11. 2018 ab 18:30 Uhr folgen wir gemeinsam den schicksalsträchtigen\, verwobenen Erzählfäden der Apfelsinenfee und anderen türkischen Märchen. \nDer Eintritt ist frei\, Spenden sind erwünscht.
URL:https://mierendorffinsel.org/veranstaltung/berliner-maerchentage-die-apfelsinenfee-im-haus-am-mierendorffplatz-ham/
LOCATION:Haus am Mierendorffplatz (HaM)\, Mierendorffplatz 19\, Berlin\, Berlin\, 10589
CATEGORIES:Lesung
ORGANIZER;CN="M%C3%A4rchenland%20e.V.":MAILTO:info@maerchenland-ev.de
END:VEVENT
END:VCALENDAR