BEGIN:VCALENDAR
VERSION:2.0
PRODID:-//Mierendorff-INSEL - ECPv5.16.4//NONSGML v1.0//EN
CALSCALE:GREGORIAN
METHOD:PUBLISH
X-WR-CALNAME:Mierendorff-INSEL
X-ORIGINAL-URL:https://mierendorffinsel.org
X-WR-CALDESC:Veranstaltungen für Mierendorff-INSEL
BEGIN:VTIMEZONE
TZID:Europe/Berlin
BEGIN:DAYLIGHT
TZOFFSETFROM:+0100
TZOFFSETTO:+0200
TZNAME:CEST
DTSTART:20260329T010000
END:DAYLIGHT
BEGIN:STANDARD
TZOFFSETFROM:+0200
TZOFFSETTO:+0100
TZNAME:CET
DTSTART:20261025T010000
END:STANDARD
END:VTIMEZONE
BEGIN:VEVENT
DTSTART;TZID=Europe/Berlin:20260425T110000
DTEND;TZID=Europe/Berlin:20260425T130000
DTSTAMP:20260424T135839
CREATED:20260423T164646Z
LAST-MODIFIED:20260423T164646Z
UID:8930-1777114800-1777122000@mierendorffinsel.org
SUMMARY:Cleanup auf der Mierendorff-INSEL
DESCRIPTION:Wir schreiben es regelmäßig\, weil es leider nötig bleibt: Am Samstag trifft sich die Cleanup-Gruppe wieder zum gemeinsamen Müllsammeln im Kiez. \nWer mithelfen möchte\, ist herzlich willkommen – Greifer\, Handschuhe und Müllsäcke sind vorhanden. Jede Hand hilft! \n  \n📅 Termin: Samstag\, 25. April 2026\n🕛 Uhrzeit: 11:00 – 13:00 Uhr\n📍 Wo: Haus am Mierendorffplatz (Hintereingang)
URL:https://mierendorffinsel.org/veranstaltung/cleanup-auf-der-mierendorff-insel-5/
LOCATION:Haus am Mierendorffplatz (HaM)\, Mierendorffplatz 19\, Berlin\, Berlin\, 10589
CATEGORIES:AG-Treffen,Aktion
END:VEVENT
END:VCALENDAR