BEGIN:VCALENDAR
VERSION:2.0
PRODID:-//Mierendorff-INSEL - ECPv5.16.4//NONSGML v1.0//EN
CALSCALE:GREGORIAN
METHOD:PUBLISH
X-WR-CALNAME:Mierendorff-INSEL
X-ORIGINAL-URL:https://mierendorffinsel.org
X-WR-CALDESC:Veranstaltungen für Mierendorff-INSEL
BEGIN:VTIMEZONE
TZID:Europe/Berlin
BEGIN:DAYLIGHT
TZOFFSETFROM:+0100
TZOFFSETTO:+0200
TZNAME:CEST
DTSTART:20230326T010000
END:DAYLIGHT
BEGIN:STANDARD
TZOFFSETFROM:+0200
TZOFFSETTO:+0100
TZNAME:CET
DTSTART:20231029T010000
END:STANDARD
END:VTIMEZONE
BEGIN:VEVENT
DTSTART;TZID=Europe/Berlin:20230621T170000
DTEND;TZID=Europe/Berlin:20230621T220000
DTSTAMP:20260420T204202
CREATED:20230523T093238Z
LAST-MODIFIED:20230524T121328Z
UID:7229-1687366800-1687384800@mierendorffinsel.org
SUMMARY:Fête de la Musique auf der INSEL
DESCRIPTION:Ganz Berlin steht am Mittwoch\, 21. Juni\, im Zeichen der Musik: Die Fête de la Musique ist angesagt. Auch auf dem Mierendorffplatz  wird von 17 bis 22 Uhr eine Bühne aufgebaut sein. Auf dem Programm stehen Auftritte des jungen Geigers Aviv Gerstetter\, der Folkrock-Band „Olaf Maske & die Spontanitäter“\, des Chors „Klangbeeth Berlin“ und der Metal-Band „Fourtone“. In den Umbaupausen und den Abendstunden sorgt DJ Werner für Worldbeats.
URL:https://mierendorffinsel.org/veranstaltung/fete-de-la-musique-auf-der-insel/
LOCATION:Mierendorffplatz\, Mierendorffplatz\, Berlin\, 10589
CATEGORIES:Fest
ORGANIZER;CN="DorfwerkStadt%20e.V.":MAILTO:team@dorfwerkstadt.de
END:VEVENT
END:VCALENDAR