BEGIN:VCALENDAR
VERSION:2.0
PRODID:-//Mierendorff-INSEL - ECPv5.16.4//NONSGML v1.0//EN
CALSCALE:GREGORIAN
METHOD:PUBLISH
X-WR-CALNAME:Mierendorff-INSEL
X-ORIGINAL-URL:https://mierendorffinsel.org
X-WR-CALDESC:Veranstaltungen für Mierendorff-INSEL
BEGIN:VTIMEZONE
TZID:Europe/Berlin
BEGIN:DAYLIGHT
TZOFFSETFROM:+0100
TZOFFSETTO:+0200
TZNAME:CEST
DTSTART:20260329T010000
END:DAYLIGHT
BEGIN:STANDARD
TZOFFSETFROM:+0200
TZOFFSETTO:+0100
TZNAME:CET
DTSTART:20261025T010000
END:STANDARD
END:VTIMEZONE
BEGIN:VEVENT
DTSTART;TZID=Europe/Berlin:20260522T160000
DTEND;TZID=Europe/Berlin:20260522T200000
DTSTAMP:20260423T164853
CREATED:20260423T084459Z
LAST-MODIFIED:20260423T095313Z
UID:8927-1779465600-1779480000@mierendorffinsel.org
SUMMARY:Frühlingsfest im Haus am Mierendorffplatz
DESCRIPTION:Nähere Informationen zu dem Fest folgen demnächst!
URL:https://mierendorffinsel.org/veranstaltung/fruehlingsfest-im-haus-am-mierendorffplatz/
LOCATION:Haus am Mierendorffplatz (HaM)\, Mierendorffplatz 19\, Berlin\, Berlin\, 10589
CATEGORIES:Aktion,Ausstellung,Fest
ORGANIZER;CN="Haus%20am%20Mierendorffplatz":MAILTO:kiezbuero@dorfwerkstadt.de
END:VEVENT
END:VCALENDAR