BEGIN:VCALENDAR
VERSION:2.0
PRODID:-//Mierendorff-INSEL - ECPv5.16.4//NONSGML v1.0//EN
CALSCALE:GREGORIAN
METHOD:PUBLISH
X-WR-CALNAME:Mierendorff-INSEL
X-ORIGINAL-URL:https://mierendorffinsel.org
X-WR-CALDESC:Veranstaltungen für Mierendorff-INSEL
BEGIN:VTIMEZONE
TZID:Europe/Berlin
BEGIN:DAYLIGHT
TZOFFSETFROM:+0100
TZOFFSETTO:+0200
TZNAME:CEST
DTSTART:20260329T010000
END:DAYLIGHT
BEGIN:STANDARD
TZOFFSETFROM:+0200
TZOFFSETTO:+0100
TZNAME:CET
DTSTART:20261025T010000
END:STANDARD
END:VTIMEZONE
BEGIN:VEVENT
DTSTART;TZID=Europe/Berlin:20260119T173000
DTEND;TZID=Europe/Berlin:20260119T213000
DTSTAMP:20260425T054334
CREATED:20260108T113118Z
LAST-MODIFIED:20260108T113118Z
UID:8827-1768843800-1768858200@mierendorffinsel.org
SUMMARY:Genießen statt verschwenden! Gemeinsamer Koch-Workshop im HaM
DESCRIPTION:Kennt ihr schon den neuen „Fairteiler“-Kühlschrank im HaM? Wie lässt sich Lebensmittelverschwendung im Alltag vermeiden und aus Resten leckere Gerichte zaubern? In diesem Workshop kochen wir gemeinsam mit fachkundiger Anleitung pflanzliche Gerichte aus überwiegend „geretteten“ Lebensmitteln. Neben dem praktischen Kochen gibt es anschauliche Impulse und alltagstaugliche Tipps für einen bewussteren Umgang mit Lebensmitteln. \nAm 19.01. von 17:30–21:30 Uhr\, im HaM. Teilnahme kostenlos – Nachfragen oder Hinweise an die Koordinierungsstelle für Umweltbildung: umweltbildung@dorfwerkstadt.de \n  \n📅 Termin: Montag\, 19. Januar 2026\n🕛 Uhrzeit: 17:30 – 21:30 Uhr\n📍 Wo: Haus am Mierendorffplatz
URL:https://mierendorffinsel.org/veranstaltung/geniessen-statt-verschwenden-gemeinsamer-koch-workshop-im-ham/
LOCATION:Haus am Mierendorffplatz (HaM)\, Mierendorffplatz 19\, Berlin\, Berlin\, 10589
CATEGORIES:Aktion,Beratung
END:VEVENT
END:VCALENDAR