BEGIN:VCALENDAR
VERSION:2.0
PRODID:-//Mierendorff-INSEL - ECPv5.16.4//NONSGML v1.0//EN
CALSCALE:GREGORIAN
METHOD:PUBLISH
X-WR-CALNAME:Mierendorff-INSEL
X-ORIGINAL-URL:https://mierendorffinsel.org
X-WR-CALDESC:Veranstaltungen für Mierendorff-INSEL
BEGIN:VTIMEZONE
TZID:Europe/Berlin
BEGIN:DAYLIGHT
TZOFFSETFROM:+0100
TZOFFSETTO:+0200
TZNAME:CEST
DTSTART:20190331T010000
END:DAYLIGHT
BEGIN:STANDARD
TZOFFSETFROM:+0200
TZOFFSETTO:+0100
TZNAME:CET
DTSTART:20191027T010000
END:STANDARD
END:VTIMEZONE
BEGIN:VEVENT
DTSTART;TZID=Europe/Berlin:20190209T110000
DTEND;TZID=Europe/Berlin:20190209T130000
DTSTAMP:20260421T115941
CREATED:20190114T093731Z
LAST-MODIFIED:20190329T125919Z
UID:2006-1549710000-1549717200@mierendorffinsel.org
SUMMARY:INSEL-Rundgang im Januar
DESCRIPTION:Der INSEL-Rundgang fällt im Januar aus. Der nächste INSEL-Rundgang  findet am Samstag\, 9. Februar um 11:00 Uhr statt.  \nAls Trostpflaster bzw. als Belohnung erhält jeder Teilnehmer / jede Teilnehmerin eine kleine Broschüre\, in der die Sehenswürdigkeiten der Mierendorff-INSEL beschrieben und „bebildert“ sind. \nTreffpunkt: Bonhoefferufer an der Schlossbrücke
URL:https://mierendorffinsel.org/veranstaltung/insel-rundgang-2/
CATEGORIES:INSEL-Rundgang
ORGANIZER;CN="AG%20Leben%20im%20Alter":MAILTO:zukunftsteam@mierendorffinsel.org
END:VEVENT
END:VCALENDAR