BEGIN:VCALENDAR
VERSION:2.0
PRODID:-//Mierendorff-INSEL - ECPv5.16.4//NONSGML v1.0//EN
CALSCALE:GREGORIAN
METHOD:PUBLISH
X-WR-CALNAME:Mierendorff-INSEL
X-ORIGINAL-URL:https://mierendorffinsel.org
X-WR-CALDESC:Veranstaltungen für Mierendorff-INSEL
BEGIN:VTIMEZONE
TZID:Europe/Berlin
BEGIN:DAYLIGHT
TZOFFSETFROM:+0100
TZOFFSETTO:+0200
TZNAME:CEST
DTSTART:20260329T010000
END:DAYLIGHT
BEGIN:STANDARD
TZOFFSETFROM:+0200
TZOFFSETTO:+0100
TZNAME:CET
DTSTART:20261025T010000
END:STANDARD
END:VTIMEZONE
BEGIN:VEVENT
DTSTART;TZID=Europe/Berlin:20260509T110000
DTEND;TZID=Europe/Berlin:20260509T130000
DTSTAMP:20260424T133957
CREATED:20260423T165115Z
LAST-MODIFIED:20260423T165209Z
UID:8932-1778324400-1778331600@mierendorffinsel.org
SUMMARY:INSEL-Rundgang im Mai
DESCRIPTION:Der Insel-Rundgang\, geführt von Rainer Leppin\, Mitglied des INSEL-Zukunftsteams\, startet am Sonntag\, den 9. Mai um 11 Uhr am Bahnhof Jungfernheide\, Ausgang Olbersstraße. Zielpunkt wird gegen 13:00 Uhr am U-Bahnhof Mierendorffplatz sein. \nWährend des Rundgangs wird neben einem historischen Rückblick auch über neue Entwicklungen auf der Mierendorff-INSEL (u.a. geplante bzw. laufende Bau- und Verkehrsmaßnahmen\, INSEL-Rat) informiert. \nAm Ende des Spaziergangs werden wir die Syrisch Orthodoxe Kirche „Mor Afrem“ besuchen\, das Gotteshaus der aramäischen Gemeinde (Christen der ersten Stunde\, da Jesu aramäisch sprach). \nAnmeldung erwünscht über: rainer.leppin@dorfwerkstadt.de \n 
URL:https://mierendorffinsel.org/veranstaltung/insel-rundgang-im-mai-2/
CATEGORIES:INSEL-Rundgang
ORGANIZER;CN="DorfwerkStadt%20e.V.":MAILTO:team@dorfwerkstadt.de
END:VEVENT
END:VCALENDAR