BEGIN:VCALENDAR
VERSION:2.0
PRODID:-//Mierendorff-INSEL - ECPv5.16.4//NONSGML v1.0//EN
CALSCALE:GREGORIAN
METHOD:PUBLISH
X-WR-CALNAME:Mierendorff-INSEL
X-ORIGINAL-URL:https://mierendorffinsel.org
X-WR-CALDESC:Veranstaltungen für Mierendorff-INSEL
BEGIN:VTIMEZONE
TZID:Europe/Berlin
BEGIN:DAYLIGHT
TZOFFSETFROM:+0100
TZOFFSETTO:+0200
TZNAME:CEST
DTSTART:20180325T010000
END:DAYLIGHT
BEGIN:STANDARD
TZOFFSETFROM:+0200
TZOFFSETTO:+0100
TZNAME:CET
DTSTART:20181028T010000
END:STANDARD
END:VTIMEZONE
BEGIN:VEVENT
DTSTART;TZID=Europe/Berlin:20181013T110000
DTEND;TZID=Europe/Berlin:20181013T130000
DTSTAMP:20260421T193836
CREATED:20180920T113812Z
LAST-MODIFIED:20190329T125952Z
UID:1525-1539428400-1539435600@mierendorffinsel.org
SUMMARY:INSEL-Rundgang
DESCRIPTION:Unsere monatliche INSEL-Wanderung erfreut sich großer Beliebtheit\, daher geht es auch im Oktober weiter\, sofern es nicht regnet! Auch diesmal wird es wieder einen Schwerpunkt geben – nähere Informationen folgen! \nDie Insel-Wanderung ist eine schöne Möglichkeit\, Nachbarn und Nachbarschaft kennenzulernen und Informationen über und aus dem Kiez zu geben bzw. zu erhalten. Wir gehen rund um die INSEL (ca. 5\, 5 km)\, jeder so lange wie er/sie mag. Vielleicht im Anschluss noch ein Kaffee …\nEine Interessenbekundung wäre schön\, aber nicht unbedingt notwendig.
URL:https://mierendorffinsel.org/veranstaltung/insel-wanderung-2/
LOCATION:Schlossbrücke\, Bonhoeffer Ufer / Mierendorffstraße
CATEGORIES:INSEL-Rundgang
END:VEVENT
END:VCALENDAR