BEGIN:VCALENDAR
VERSION:2.0
PRODID:-//Mierendorff-INSEL - ECPv5.16.4//NONSGML v1.0//EN
CALSCALE:GREGORIAN
METHOD:PUBLISH
X-WR-CALNAME:Mierendorff-INSEL
X-ORIGINAL-URL:https://mierendorffinsel.org
X-WR-CALDESC:Veranstaltungen für Mierendorff-INSEL
BEGIN:VTIMEZONE
TZID:Europe/Berlin
BEGIN:DAYLIGHT
TZOFFSETFROM:+0100
TZOFFSETTO:+0200
TZNAME:CEST
DTSTART:20230326T010000
END:DAYLIGHT
BEGIN:STANDARD
TZOFFSETFROM:+0200
TZOFFSETTO:+0100
TZNAME:CET
DTSTART:20231029T010000
END:STANDARD
END:VTIMEZONE
BEGIN:VEVENT
DTSTART;TZID=Europe/Berlin:20230902T160000
DTEND;TZID=Europe/Berlin:20230902T200000
DTSTAMP:20260421T103905
CREATED:20230809T125042Z
LAST-MODIFIED:20230809T125042Z
UID:7359-1693670400-1693684800@mierendorffinsel.org
SUMMARY:Jubiläumsfest der Kleingarten-Kolonien
DESCRIPTION:40 Jahre Arbeitskreis rund ums Gaswerk – wenn das kein Anlass für ein Jubiläumsfest ist! Der Arbeitskreis\, der sich für den Erhalt der Kleingarten-Kolonien einsetzt\, feiert am Samstag\, 2. September\, ab 16 Uhr auf dem Festplatz der Kolonie Atlantis\, Lise-Meitner-Straße 44. Alle Insulaner:innen sind herzlich willkommen! Beim nachbarschaftlichen Zusammensein gibt es Kaffee und Kuchen und Herzhaftes.
URL:https://mierendorffinsel.org/veranstaltung/jubilaeumsfest-der-kleingarten-kolonien/
LOCATION:Kleingarten-Kolonie Atlantis
CATEGORIES:Fest
END:VEVENT
END:VCALENDAR