BEGIN:VCALENDAR
VERSION:2.0
PRODID:-//Mierendorff-INSEL - ECPv5.16.4//NONSGML v1.0//EN
CALSCALE:GREGORIAN
METHOD:PUBLISH
X-WR-CALNAME:Mierendorff-INSEL
X-ORIGINAL-URL:https://mierendorffinsel.org
X-WR-CALDESC:Veranstaltungen für Mierendorff-INSEL
BEGIN:VTIMEZONE
TZID:Europe/Berlin
BEGIN:DAYLIGHT
TZOFFSETFROM:+0100
TZOFFSETTO:+0200
TZNAME:CEST
DTSTART:20190331T010000
END:DAYLIGHT
BEGIN:STANDARD
TZOFFSETFROM:+0200
TZOFFSETTO:+0100
TZNAME:CET
DTSTART:20191027T010000
END:STANDARD
END:VTIMEZONE
BEGIN:VEVENT
DTSTART;TZID=Europe/Berlin:20190529T170000
DTEND;TZID=Europe/Berlin:20190529T180000
DTSTAMP:20260422T111400
CREATED:20190329T125338Z
LAST-MODIFIED:20190514T142543Z
UID:2343-1559149200-1559152800@mierendorffinsel.org
SUMMARY:Kostenlose  Rechtsberatung im Haus am Mierendorffplatz
DESCRIPTION:Die nächste kostenlose Rechtsberatung mit RA Alexander Einfinger findet am 29.5. 2019 von 17:00 bis 18:00 Uhr statt.  \nEine Anmeldung ist nicht erforderlich\, aber erwünscht.\nAnmeldungen im Kiezbüro unter: 030 – 344 58 74 oder kiezbuero@dorfwerkstadt.de
URL:https://mierendorffinsel.org/veranstaltung/kostenlose-rechtsberatung-im-haus-am-mierendorffplatz/
LOCATION:Haus am Mierendorffplatz (HaM)\, Mierendorffplatz 19\, Berlin\, Berlin\, 10589
CATEGORIES:Beratung
ORGANIZER;CN="Stadtteilkoordination%20%2F%20Kiezb%C3%BCro":MAILTO:kiezbuero@dorfwerkstadt.de
END:VEVENT
END:VCALENDAR