BEGIN:VCALENDAR
VERSION:2.0
PRODID:-//Mierendorff-INSEL - ECPv5.16.4//NONSGML v1.0//EN
CALSCALE:GREGORIAN
METHOD:PUBLISH
X-WR-CALNAME:Mierendorff-INSEL
X-ORIGINAL-URL:https://mierendorffinsel.org
X-WR-CALDESC:Veranstaltungen für Mierendorff-INSEL
BEGIN:VTIMEZONE
TZID:Europe/Berlin
BEGIN:DAYLIGHT
TZOFFSETFROM:+0100
TZOFFSETTO:+0200
TZNAME:CEST
DTSTART:20180325T010000
END:DAYLIGHT
BEGIN:STANDARD
TZOFFSETFROM:+0200
TZOFFSETTO:+0100
TZNAME:CET
DTSTART:20181028T010000
END:STANDARD
END:VTIMEZONE
BEGIN:VEVENT
DTSTART;TZID=Europe/Berlin:20181016T190000
DTEND;TZID=Europe/Berlin:20181016T213000
DTSTAMP:20260422T011441
CREATED:20181011T094426Z
LAST-MODIFIED:20190329T111334Z
UID:1674-1539716400-1539725400@mierendorffinsel.org
SUMMARY:Kunst-Auktion zugunsten des Globe Berlin
DESCRIPTION:Das Globe Berlin\, ein Shakespeare Theater der Moderne\, soll im August 2019 seine Tore auf der Mierendorff-INSEL öffnen. \nDie Kunst-Auktion mit Fotografien von Ingo Woesner im Rathaus Charlottenburg wird das Globe Berlin unterstützen. \nDienstag\, 16. Oktober 2018 um 19 Uhr\nBVV-Saal im Rathaus Charlottenburg\nOtto-Suhr-Allee 100\n10585 Berlin \n  \n 
URL:https://mierendorffinsel.org/veranstaltung/kunst-auktion-zugunsten-des-globe-berlin/
LOCATION:Rathaus Charlottenburg\, BVV-Saal\, 3. OG\, Otoo-Suhr-Allee 100\, Berlin\, 10589\, Deutschland
CATEGORIES:Ausstellung
END:VEVENT
END:VCALENDAR