BEGIN:VCALENDAR
VERSION:2.0
PRODID:-//Mierendorff-INSEL - ECPv5.16.4//NONSGML v1.0//EN
CALSCALE:GREGORIAN
METHOD:PUBLISH
X-WR-CALNAME:Mierendorff-INSEL
X-ORIGINAL-URL:https://mierendorffinsel.org
X-WR-CALDESC:Veranstaltungen für Mierendorff-INSEL
BEGIN:VTIMEZONE
TZID:Europe/Berlin
BEGIN:DAYLIGHT
TZOFFSETFROM:+0100
TZOFFSETTO:+0200
TZNAME:CEST
DTSTART:20180325T010000
END:DAYLIGHT
BEGIN:STANDARD
TZOFFSETFROM:+0200
TZOFFSETTO:+0100
TZNAME:CET
DTSTART:20181028T010000
END:STANDARD
END:VTIMEZONE
BEGIN:VEVENT
DTSTART;TZID=Europe/Berlin:20181016T180000
DTEND;TZID=Europe/Berlin:20181016T200000
DTSTAMP:20260422T005735
CREATED:20180922T101734Z
LAST-MODIFIED:20190329T111359Z
UID:1538-1539712800-1539720000@mierendorffinsel.org
SUMMARY:Lese-Abend der AG Leben im Alter
DESCRIPTION:Wir laden ein zum Leseabend der AG Leben im Alter und setzen so unsere 2017 begonnene Lesungsreihe weiter fort. Diesmal treffen wir uns am 16. Oktober 2018 um 18.00 Uhr statt.\nWer immer einen kurzen Text\, ein Buch oder ein Gedicht kennt\, das es wert ist\, weitergetragen zu werden\, ist herzlich eingeladen\, diesen Text selbst lesend vorzutragen und sich von anderen Texten\, Vorleser*innen und Gesprächen darüber inspirieren zu lassen. \nGibt es etwas\, was Sie in Ihrem Leben schon einmal berührt\, begeistert oder bewegt hat? Dann freuen wir uns darauf\, dass Sie diesen Text mit uns teilen. Eingeladen sind Jung und Alt\, die Freude daran haben\, sich durch Texte berühren zu lassen.\nWir werden Wein und Wasser bereitstellen\, über einen kleinen Beitrag an den Kosten für die Getränke freuen wir uns.\nEine Rückmeldung wäre schön\, aber nicht unbedingt notwendig!
URL:https://mierendorffinsel.org/veranstaltung/lese-abend-der-ag-leben-im-alter/
CATEGORIES:AG-Treffen,Lesung
ORGANIZER;CN="AG%20Leben%20im%20Alter":MAILTO:zukunftsteam@mierendorffinsel.org
END:VEVENT
END:VCALENDAR