BEGIN:VCALENDAR
VERSION:2.0
PRODID:-//Mierendorff-INSEL - ECPv5.16.4//NONSGML v1.0//EN
CALSCALE:GREGORIAN
METHOD:PUBLISH
X-WR-CALNAME:Mierendorff-INSEL
X-ORIGINAL-URL:https://mierendorffinsel.org
X-WR-CALDESC:Veranstaltungen für Mierendorff-INSEL
BEGIN:VTIMEZONE
TZID:Europe/Berlin
BEGIN:DAYLIGHT
TZOFFSETFROM:+0100
TZOFFSETTO:+0200
TZNAME:CEST
DTSTART:20190331T010000
END:DAYLIGHT
BEGIN:STANDARD
TZOFFSETFROM:+0200
TZOFFSETTO:+0100
TZNAME:CET
DTSTART:20191027T010000
END:STANDARD
END:VTIMEZONE
BEGIN:VEVENT
DTSTART;TZID=Europe/Berlin:20190404T180000
DTEND;TZID=Europe/Berlin:20190404T200000
DTSTAMP:20260421T123050
CREATED:20190326T122222Z
LAST-MODIFIED:20191104T090548Z
UID:2247-1554400800-1554408000@mierendorffinsel.org
SUMMARY:Lese- und Autor*innenabend
DESCRIPTION:Der Leseabend findet am 4. April 2019 von 18:00 bis 20:00 Uhr im Haus am Mierendorffplatz statt. \nWer immer einen (eigenen) Text\, ein Buch oder ein Gedicht vortragen möchte\, ist herzlich eingeladen\, an unseren Leseabenden diesen Text vorzustellen und sich von anderen Texten\, Vorleser*innen und Gesprächen inspirieren zu lassen. Gibt es etwas\, was dich in deinem Leben schon einmal berührt\, begeistert oder bewegt hat? Dann freuen wir uns darauf\, dass du diesen Text mit uns teilst. \nEingeladen sind Jung und Alt\, die Freude daran haben\, sich durch Texte inspirieren zu lassen. Eine vorherige Rückmeldung wäre wünschenswert\, aber nicht obligatorisch! \nEva Michaylow und Rainer Leppin (für die AG Leben im Alter)
URL:https://mierendorffinsel.org/veranstaltung/lese-und-autorinnenabend/
LOCATION:Haus am Mierendorffplatz (HaM)\, Mierendorffplatz 19\, Berlin\, Berlin\, 10589
CATEGORIES:Lesung
ORGANIZER;CN="AG%20Leben%20im%20Alter":MAILTO:zukunftsteam@mierendorffinsel.org
END:VEVENT
END:VCALENDAR