BEGIN:VCALENDAR
VERSION:2.0
PRODID:-//Mierendorff-INSEL - ECPv5.16.4//NONSGML v1.0//EN
CALSCALE:GREGORIAN
METHOD:PUBLISH
X-WR-CALNAME:Mierendorff-INSEL
X-ORIGINAL-URL:https://mierendorffinsel.org
X-WR-CALDESC:Veranstaltungen für Mierendorff-INSEL
BEGIN:VTIMEZONE
TZID:Europe/Berlin
BEGIN:DAYLIGHT
TZOFFSETFROM:+0100
TZOFFSETTO:+0200
TZNAME:CEST
DTSTART:20200329T010000
END:DAYLIGHT
BEGIN:STANDARD
TZOFFSETFROM:+0200
TZOFFSETTO:+0100
TZNAME:CET
DTSTART:20201025T010000
END:STANDARD
END:VTIMEZONE
BEGIN:VEVENT
DTSTART;TZID=Europe/Berlin:20200305T180000
DTEND;TZID=Europe/Berlin:20200305T210000
DTSTAMP:20260425T040348
CREATED:20200224T142213Z
LAST-MODIFIED:20200227T093408Z
UID:3641-1583431200-1583442000@mierendorffinsel.org
SUMMARY:Leseabend im HaM
DESCRIPTION:Am Donnerstag\, 4. März\, steht ab 18 Uhr wieder ein Leseabend im Haus am Mierendorffplatz (HaM) auf dem Programm. Wer einen (eigenen) Text\, ein Buch oder ein Gedicht vortragen möchte\, ist herzlich eingeladen\, diesen Text vorzustellen und sich von anderen Vorleser*innen und Gesprächen inspirieren zu lassen. \nDie Leseabende finden regelmäßig an jedem ersten Donnerstag im Monat im HaM statt.
URL:https://mierendorffinsel.org/veranstaltung/leseabend-im-ham/
LOCATION:Haus am Mierendorffplatz (HaM)\, Mierendorffplatz 19\, Berlin\, Berlin\, 10589
CATEGORIES:Lesung
ORGANIZER;CN="DorfwerkStadt%20e.V.":MAILTO:team@dorfwerkstadt.de
END:VEVENT
END:VCALENDAR