BEGIN:VCALENDAR
VERSION:2.0
PRODID:-//Mierendorff-INSEL - ECPv5.16.4//NONSGML v1.0//EN
CALSCALE:GREGORIAN
METHOD:PUBLISH
X-WR-CALNAME:Mierendorff-INSEL
X-ORIGINAL-URL:https://mierendorffinsel.org
X-WR-CALDESC:Veranstaltungen für Mierendorff-INSEL
BEGIN:VTIMEZONE
TZID:Europe/Berlin
BEGIN:DAYLIGHT
TZOFFSETFROM:+0100
TZOFFSETTO:+0200
TZNAME:CEST
DTSTART:20200329T010000
END:DAYLIGHT
BEGIN:STANDARD
TZOFFSETFROM:+0200
TZOFFSETTO:+0100
TZNAME:CET
DTSTART:20201025T010000
END:STANDARD
END:VTIMEZONE
BEGIN:VEVENT
DTSTART;TZID=Europe/Berlin:20200306T190000
DTEND;TZID=Europe/Berlin:20200327T180000
DTSTAMP:20260425T054154
CREATED:20200225T144532Z
LAST-MODIFIED:20200225T144532Z
UID:3659-1583521200-1585332000@mierendorffinsel.org
SUMMARY:Malerei wie ein freier Tanz
DESCRIPTION:„verSANDet und verWEHt“ ist die kommende Ausstellung im Haus am Mierendorffplatz (HaM) überschrieben. Gezeigt werden Bilder von sara reichelt\, die mit Acrylfarben\, Pigmenten und Vogelsand arbeitet. Die Wahlberlinerin beschäftigt sich seit vielen Jahren mit der Verbindung von abstrakter Malerei\, Sprache und Tanz. Ähnlich wie freier Tanz ist das Malen für sie ein „fließender Akt\, ein Spiel zwischen Chaos und Struktur“. Das Thema ihrer Ausstellung ist die Vergänglichkeit von Nähe\, aber auch von Schmerz: „Genauso wie intensive und neue oder auch alte Kontakte verSANDen können\, verschwindet der Schmerz über Verlorenes und Neues entsteht.“ Die Künstlerin lässt sich von Bildern zu lyrischen Texten inspirieren und liest im Rahmen der Vernissage Veröffentlichtes und Unveröffentlichtes zum Thema der Ausstellung. \nEröffnung ist am Freitag\, 6. März\, 19 bis 22 Uhr. Anschließend sind die Bilder bis zum 27. März im HaM zu sehen\, dienstags und mittwochs 13 bis 18 Uhr\, donnerstags 10 bis 19 Uhr und freitags 10 bis 18 Uhr.
URL:https://mierendorffinsel.org/veranstaltung/malerei-wie-ein-freier-tanz/
LOCATION:Haus am Mierendorffplatz (HaM)\, Mierendorffplatz 19\, Berlin\, Berlin\, 10589
CATEGORIES:Ausstellung
ORGANIZER;CN="Haus%20am%20Mierendorffplatz":MAILTO:kiezbuero@dorfwerkstadt.de
END:VEVENT
END:VCALENDAR