BEGIN:VCALENDAR
VERSION:2.0
PRODID:-//Mierendorff-INSEL - ECPv5.16.4//NONSGML v1.0//EN
CALSCALE:GREGORIAN
METHOD:PUBLISH
X-WR-CALNAME:Mierendorff-INSEL
X-ORIGINAL-URL:https://mierendorffinsel.org
X-WR-CALDESC:Veranstaltungen für Mierendorff-INSEL
BEGIN:VTIMEZONE
TZID:Europe/Berlin
BEGIN:DAYLIGHT
TZOFFSETFROM:+0100
TZOFFSETTO:+0200
TZNAME:CEST
DTSTART:20180325T010000
END:DAYLIGHT
BEGIN:STANDARD
TZOFFSETFROM:+0200
TZOFFSETTO:+0100
TZNAME:CET
DTSTART:20181028T010000
END:STANDARD
END:VTIMEZONE
BEGIN:VEVENT
DTSTART;TZID=Europe/Berlin:20180703T160000
DTEND;TZID=Europe/Berlin:20180703T180000
DTSTAMP:20260420T141219
CREATED:20180622T063438Z
LAST-MODIFIED:20190329T112222Z
UID:940-1530633600-1530640800@mierendorffinsel.org
SUMMARY:Treffen der AG Leben im Alter
DESCRIPTION:Die AG Leben im Alter lädt zum monatlichen Treffen ein. Es findet  am Dienstag\, den 3.7.\, von 16:00 bis 18:00 Uhr im Haus am Mierendorffplatz (HaM) statt. Neben einem allgemeinen Austausch wollen wir  über diverse Aktivitäten im Kiez (u.a. Teilnahme am Wettbewerb „Zukunftsstadt“\, Inselrundweg) informieren und prüfen\, in wie weit die Belange der älteren Generation dort Berücksichtigung finden.
URL:https://mierendorffinsel.org/veranstaltung/treffen-der-ag-leben-im-alter-2/
LOCATION:Haus am Mierendorffplatz (HaM)\, Mierendorffplatz 19\, Berlin\, Berlin\, 10589
CATEGORIES:AG-Treffen
ORGANIZER;CN="AG%20Leben%20im%20Alter":MAILTO:zukunftsteam@mierendorffinsel.org
END:VEVENT
END:VCALENDAR