BEGIN:VCALENDAR
VERSION:2.0
PRODID:-//Mierendorff-INSEL - ECPv5.16.4//NONSGML v1.0//EN
CALSCALE:GREGORIAN
METHOD:PUBLISH
X-WR-CALNAME:Mierendorff-INSEL
X-ORIGINAL-URL:https://mierendorffinsel.org
X-WR-CALDESC:Veranstaltungen für Mierendorff-INSEL
BEGIN:VTIMEZONE
TZID:Europe/Berlin
BEGIN:DAYLIGHT
TZOFFSETFROM:+0100
TZOFFSETTO:+0200
TZNAME:CEST
DTSTART:20190331T010000
END:DAYLIGHT
BEGIN:STANDARD
TZOFFSETFROM:+0200
TZOFFSETTO:+0100
TZNAME:CET
DTSTART:20191027T010000
END:STANDARD
END:VTIMEZONE
BEGIN:VEVENT
DTSTART;TZID=Europe/Berlin:20190207T180000
DTEND;TZID=Europe/Berlin:20190207T200000
DTSTAMP:20260425T121921
CREATED:20190125T103045Z
LAST-MODIFIED:20190329T085131Z
UID:2028-1549562400-1549569600@mierendorffinsel.org
SUMMARY:Treffen für Lese-Interessierte und Schreibende
DESCRIPTION:Nach Rücksprache mit den Teilnehmenden der Autoren*innengruppe und des Leseabends werden die beiden Aktivitäten zusammengelegt\, um einen größeren Interessentenkreis anzusprechen: Für Schreibende\, die ihre ersten literarischen Werke vorstellen wollen\, und für Lesende / Zuhörende\, der eine Vielzahl literarischer Werke vorgestellt werden. Daneben steht es Teilnehmern natürlich frei\, bekannte bzw. weniger bekannte Literatur kurz vorzustellen.\nKünftig werden diese Treffen an jedem ersten Donnerstag des Monats stattfinden.  Am dritten Donnerstag des Monats wird ein „offenes Haus“ angeboten. \nErstes Treffen: Donnerstag\, den 7. Februar von 18:00-20:00 Uhr im Haus am Mierendorffplatz. \nEva Michaylow (Autoren*innengruppe) und Rainer Leppin (Leseabend)
URL:https://mierendorffinsel.org/veranstaltung/treffen-fuer-lese-interessierte-und-schreibende/
LOCATION:Haus am Mierendorffplatz (HaM)\, Mierendorffplatz 19\, Berlin\, Berlin\, 10589
CATEGORIES:Lesung
END:VEVENT
END:VCALENDAR