BEGIN:VCALENDAR
VERSION:2.0
PRODID:-//Mierendorff-INSEL - ECPv5.16.4//NONSGML v1.0//EN
CALSCALE:GREGORIAN
METHOD:PUBLISH
X-WR-CALNAME:Mierendorff-INSEL
X-ORIGINAL-URL:https://mierendorffinsel.org
X-WR-CALDESC:Veranstaltungen für Mierendorff-INSEL
BEGIN:VTIMEZONE
TZID:Europe/Berlin
BEGIN:DAYLIGHT
TZOFFSETFROM:+0100
TZOFFSETTO:+0200
TZNAME:CEST
DTSTART:20190331T010000
END:DAYLIGHT
BEGIN:STANDARD
TZOFFSETFROM:+0200
TZOFFSETTO:+0100
TZNAME:CET
DTSTART:20191027T010000
END:STANDARD
END:VTIMEZONE
BEGIN:VEVENT
DTSTART;TZID=Europe/Berlin:20190204T100000
DTEND;TZID=Europe/Berlin:20190208T150000
DTSTAMP:20260425T003757
CREATED:20190125T102822Z
LAST-MODIFIED:20190329T084924Z
UID:2029-1549274400-1549638000@mierendorffinsel.org
SUMMARY:Winterferienworkshop der Jugendkunstschule: Schloss-Expedition „Pappschlösser Baustelle“
DESCRIPTION:Kennst du Berliner Schlösser? Jede Fassade und jeder Garten sieht anders aus!\nNach einem Besuch im Charlottenburger Schloss und mit Hilfe eines dicken Fotobuches und Zeichnungen von Kindern unserer Familien-Schloss-Expeditionen wollen wir sechs Berliner Schlösser aus großen Pappkartons zum Leben erwecken und sie auf einer begehbaren Landkarte aufstellen. Wenn du zeichnen\, bauen\, schneiden\, kleben kannst und dich gerne mit Schlossgeschichten beschäftigst\, bist du herzlich willkommen! \nFlyer \nUnser Werk wird auf dem Schloss-Fest am 23. März 2019 in der Orangerie des Charlottenburger Schlosses ausgestellt und bespielt.\nDatum: 04.02. bis 08.02.2019\nUhrzeit: 10:00 bis 15:00 Uhr\nDas Projekt ist offen für Kinder von 7-12 Jahren\, kostenfrei und inklusive Verpflegung.Die Plätze sind begrenzt.\nVerbindliche Anmeldung online unter: www.jkscw.de oder telefonisch unter: 030 – 90 29 27 66 0
URL:https://mierendorffinsel.org/veranstaltung/winterferienworkshop-der-jugendkunstschule-schloss-expedition-pappschloesser-baustelle/
LOCATION:Jugendkunstschule-CW\, Nordhauser Straße 22\, Berlin\, 10589
CATEGORIES:Workshop
ORGANIZER;CN="Jugendkunstschule-CW":MAILTO:info@jugendkunstschule-cw.de
END:VEVENT
END:VCALENDAR